BEGIN:VCALENDAR
VERSION:2.0
PRODID:-//Angie Scott - ECPv6.11.2//NONSGML v1.0//EN
CALSCALE:GREGORIAN
METHOD:PUBLISH
X-ORIGINAL-URL:https://angiescottskinhealth.com
X-WR-CALDESC:Events for Angie Scott
REFRESH-INTERVAL;VALUE=DURATION:PT1H
X-Robots-Tag:noindex
X-PUBLISHED-TTL:PT1H
BEGIN:VTIMEZONE
TZID:America/Chicago
BEGIN:DAYLIGHT
TZOFFSETFROM:-0600
TZOFFSETTO:-0500
TZNAME:CDT
DTSTART:20220313T080000
END:DAYLIGHT
BEGIN:STANDARD
TZOFFSETFROM:-0500
TZOFFSETTO:-0600
TZNAME:CST
DTSTART:20221106T070000
END:STANDARD
BEGIN:DAYLIGHT
TZOFFSETFROM:-0600
TZOFFSETTO:-0500
TZNAME:CDT
DTSTART:20230312T080000
END:DAYLIGHT
BEGIN:STANDARD
TZOFFSETFROM:-0500
TZOFFSETTO:-0600
TZNAME:CST
DTSTART:20231105T070000
END:STANDARD
BEGIN:DAYLIGHT
TZOFFSETFROM:-0600
TZOFFSETTO:-0500
TZNAME:CDT
DTSTART:20240310T080000
END:DAYLIGHT
BEGIN:STANDARD
TZOFFSETFROM:-0500
TZOFFSETTO:-0600
TZNAME:CST
DTSTART:20241103T070000
END:STANDARD
BEGIN:DAYLIGHT
TZOFFSETFROM:-0600
TZOFFSETTO:-0500
TZNAME:CDT
DTSTART:20250309T080000
END:DAYLIGHT
BEGIN:STANDARD
TZOFFSETFROM:-0500
TZOFFSETTO:-0600
TZNAME:CST
DTSTART:20251102T070000
END:STANDARD
END:VTIMEZONE
BEGIN:VTIMEZONE
TZID:UTC
BEGIN:STANDARD
TZOFFSETFROM:+0000
TZOFFSETTO:+0000
TZNAME:UTC
DTSTART:20190101T000000
END:STANDARD
END:VTIMEZONE
BEGIN:VEVENT
DTSTART;TZID=America/Chicago:20250204T090000
DTEND;TZID=America/Chicago:20250214T150000
DTSTAMP:20260422T063521
CREATED:20250203T155410Z
LAST-MODIFIED:20250317T191209Z
UID:2285-1738659600-1739545200@angiescottskinhealth.com
SUMMARY:WALK-IN TOX WITH NURSE BELLA
DESCRIPTION:From February 4th to February 18th\, Bella will be offering Walk-In Tox on Tuesdays\, Thursdays\, and Fridays\, featuring our Dysport Unit Match promotion! \nBUY DYSPORT UNITS\, GET THE SAME AMOUNT FREE! \nNo appointment needed – just walk in and take advantage of this exclusive offer! \n 
URL:https://angiescottskinhealth.com/event/walk-in-tox-with-nurse-bella/
LOCATION:Angie Scott Medical Aesthetics\, 3409 W Sterns Road\, Lambertville\, MI\, 48144\, United States
END:VEVENT
BEGIN:VEVENT
DTSTART;TZID=America/Chicago:20240312T080000
DTEND;TZID=America/Chicago:20240504T170000
DTSTAMP:20260422T063521
CREATED:20240312T194154Z
LAST-MODIFIED:20260224T204740Z
UID:2080-1710230400-1714842000@angiescottskinhealth.com
SUMMARY:Angie Scott Skin Health X Rhonda Long Coaching Mother's Day Giveaway
DESCRIPTION:Angie Scott Skin Health and Rhonda Long Coaching are looking for a deserving Mother to pamper. We want to know why you or someone you know deserves a FREE Moxi\, a package of four coaching sessions\, massage\, hair color and cut\, manicure/pedicure and more! Send your stories to kassie@angiescottskinhealth.com by May 4th\, 2024. The “Ultimate Mom” will be announced winner on Wednesday\, May 8th\, 2024. Upon entering you are agreeing to have your stories\, names\, and photos used for promotional purposes.
URL:https://angiescottskinhealth.com/event/angie-scott-skin-health-x-rhonda-long-coaching-mothers-day-giveaway/
LOCATION:MI
ATTACH;FMTTYPE=image/png:https://angiescottskinhealth.com/wp-content/uploads/2024/03/4A2ADD69-5105-476A-A7EA-4C82EC824C2C.png
END:VEVENT
BEGIN:VEVENT
DTSTART;TZID=America/Chicago:20220816T150000
DTEND;TZID=America/Chicago:20220816T190000
DTSTAMP:20260422T063521
CREATED:20220812T185859Z
LAST-MODIFIED:20250321T170915Z
UID:1684-1660662000-1660676400@angiescottskinhealth.com
SUMMARY:Let's Get Real Event!
DESCRIPTION:Let’s Get Real! \n“Holiday Body Goals” An Angie Scott Medical Aesthetics Event \nMissed our April event? Curious about the latest body sculpting and wellness technology? We’d like to educate you about the AMAZING new treatments that we are offering at Angie Scott Medical Aesthetics! Say hello to Emsculpt Neo for 30% reduction in fat and a 25% increase in muscle mass\, Emtone for cellulite reduction and skin tightening – (THAT REALLY WORKS!)\, and the Emsella chair for urinary incontinence and sexual dysfunction for BOTH men and women! \nEMSCULPT NEO BUS MINI DEMOS 11:30-12:30 for the first 15 people to pre-register \nSips & Snacks \nA complimentary welcome gift for all attendees \nGrand prize raffle \nPresentation by Angie Scott at 3 pm & 6 pm \nPromotional package pricing \n  \nFor questions and pre-registering for the Neo Bus: \n734.568.6066 \nconsultation@angiescottskinhealth.com \n*no reservations required for 3-6 event\, only for Neo bus* \n  \n\n\n\n 
URL:https://angiescottskinhealth.com/event/lets-get-real-event/
LOCATION:Angie Scott Medical Aesthetics\, 3409 W Sterns Road\, Lambertville\, MI\, 48144\, United States
ATTACH;FMTTYPE=image/jpeg:https://angiescottskinhealth.com/wp-content/uploads/2022/06/Angie-Scott-Skin-Health-EmSculpt-NEO-9745.jpg
ORGANIZER;CN="Angie Scott Medical Aesthetics":MAILTO:consultation@angiescottskinhealth.com
END:VEVENT
BEGIN:VEVENT
DTSTART;TZID=UTC:20191212T160000
DTEND;TZID=UTC:20191212T200000
DTSTAMP:20260422T063521
CREATED:20191022T201534Z
LAST-MODIFIED:20250321T171652Z
UID:511-1576166400-1576180800@angiescottskinhealth.com
SUMMARY:Holiday Party
DESCRIPTION:Mauris turpis nunc\, blandit et\, volutpat molestie\, porta ut\, ligula. Quisque id mi. Cras id dui. Nulla porta dolor. Sed mollis\, eros et ultrices tempus\, mauris ipsum aliquam libero\, non adipiscing dolor urna a orci.
URL:https://angiescottskinhealth.com/event/holiday-party/
LOCATION:Venue Place\, 111000 Ash St Suite 210\, Leawood\, KS\, 662211\, United States
ATTACH;FMTTYPE=image/jpeg:https://angiescottskinhealth.com/wp-content/uploads/2019/10/23-hd-abstract-background-image.jpg
END:VEVENT
END:VCALENDAR